BEGIN:VCALENDAR
VERSION:2.0
PRODID:-//Jagdverband Brandenburg/Havel e.V. - ECPv6.10.1.1//NONSGML v1.0//EN
CALSCALE:GREGORIAN
METHOD:PUBLISH
X-WR-CALNAME:Jagdverband Brandenburg/Havel e.V.
X-ORIGINAL-URL:https://www.jagdverband-brandenburg.de
X-WR-CALDESC:Veranstaltungen für Jagdverband Brandenburg/Havel e.V.
REFRESH-INTERVAL;VALUE=DURATION:PT1H
X-Robots-Tag:noindex
X-PUBLISHED-TTL:PT1H
BEGIN:VTIMEZONE
TZID:Europe/Berlin
BEGIN:DAYLIGHT
TZOFFSETFROM:+0100
TZOFFSETTO:+0200
TZNAME:CEST
DTSTART:20260329T010000
END:DAYLIGHT
BEGIN:STANDARD
TZOFFSETFROM:+0200
TZOFFSETTO:+0100
TZNAME:CET
DTSTART:20261025T010000
END:STANDARD
END:VTIMEZONE
BEGIN:VEVENT
DTSTART;TZID=Europe/Berlin:20260228T150000
DTEND;TZID=Europe/Berlin:20260228T150000
DTSTAMP:20260420T202730
CREATED:20250207T114754Z
LAST-MODIFIED:20251116T132320Z
UID:879-1772290800-1772290800@www.jagdverband-brandenburg.de
SUMMARY:Mitgliederversammlung 2026
DESCRIPTION:EINLADUNG MITGLIEDERVERSAMMLUNG 2026\n\nDer Vorstand lädt alle Mitglieder zu seiner Mitgliederversammlung am\n28. Februar 2026\, 15.00 Uhr (Einlass ab 14:30 Uhr) in das Rittergut Krahne\,\nKrahner Hauptstraße 6a\, 14797 Kloster Lehnin OT Krahne ein.\n\nTagesordnung:\n\nBegrüßung und Grußworte der Gäste\nBericht des Vorstands\nHaushaltsplan\nBericht der Kassenprüfer\nAussprachen\nAntrag Erhöhung Mitgliedsbeiträge\nPerspektive Vorstandsarbeit\nEhrungen\nVerabschiedung mit anschließendem Imbiss\n\nDer Vorstand
URL:https://www.jagdverband-brandenburg.de/event/mitgliederversammlung-2026/
LOCATION:Rittergut Krahne\, Hauptstraße 6a\, Kloster Lehnin OT Krahne\, Brandenburg\, 14797
CATEGORIES:Versammlungen
ATTACH;FMTTYPE=image/png:https://www.jagdverband-brandenburg.de/wp-content/uploads/2024/11/logo_frei-1.png
END:VEVENT
END:VCALENDAR